BEGIN:VCALENDAR
VERSION:2.0
PRODID:-//Valley View Agri-Systems - ECPv6.15.20//NONSGML v1.0//EN
CALSCALE:GREGORIAN
METHOD:PUBLISH
X-ORIGINAL-URL:https://valleyviewagri.com
X-WR-CALDESC:Events for Valley View Agri-Systems
REFRESH-INTERVAL;VALUE=DURATION:PT1H
X-Robots-Tag:noindex
X-PUBLISHED-TTL:PT1H
BEGIN:VTIMEZONE
TZID:America/Chicago
BEGIN:DAYLIGHT
TZOFFSETFROM:-0600
TZOFFSETTO:-0500
TZNAME:CDT
DTSTART:20250309T080000
END:DAYLIGHT
BEGIN:STANDARD
TZOFFSETFROM:-0500
TZOFFSETTO:-0600
TZNAME:CST
DTSTART:20251102T070000
END:STANDARD
BEGIN:DAYLIGHT
TZOFFSETFROM:-0600
TZOFFSETTO:-0500
TZNAME:CDT
DTSTART:20260308T080000
END:DAYLIGHT
BEGIN:STANDARD
TZOFFSETFROM:-0500
TZOFFSETTO:-0600
TZNAME:CST
DTSTART:20261101T070000
END:STANDARD
BEGIN:DAYLIGHT
TZOFFSETFROM:-0600
TZOFFSETTO:-0500
TZNAME:CDT
DTSTART:20270314T080000
END:DAYLIGHT
BEGIN:STANDARD
TZOFFSETFROM:-0500
TZOFFSETTO:-0600
TZNAME:CST
DTSTART:20271107T070000
END:STANDARD
END:VTIMEZONE
BEGIN:VEVENT
DTSTART;VALUE=DATE:20260227
DTEND;VALUE=DATE:20260301
DTSTAMP:20260423T043524
CREATED:20251013T113159Z
LAST-MODIFIED:20251013T113159Z
UID:3370-1772150400-1772323199@valleyviewagri.com
SUMMARY:Mid-South Farm & Gin Show 2026
DESCRIPTION:The 74th Annual Mid-South Farm & Gin Show will be held February 27th through 28th\, 2026 at the Renasant Convention Center\, 255 N. Main Street\, Memphis\, Tennessee \nBooth #: 3378
URL:https://valleyviewagri.com/event/mid-south-farm-gin-show-2026/
LOCATION:Renasant Convention Center\, 255 N. Main Street \, Memphis\, TN\, United States
CATEGORIES:Trade Show
ATTACH;FMTTYPE=image/png:https://valleyviewagri.com/wp-content/uploads/2023/11/Header-Logo.png
END:VEVENT
BEGIN:VEVENT
DTSTART;VALUE=DATE:20260602
DTEND;VALUE=DATE:20260605
DTSTAMP:20260423T043524
CREATED:20260311T215430Z
LAST-MODIFIED:20260311T215503Z
UID:3526-1780358400-1780617599@valleyviewagri.com
SUMMARY:Fuel Ethanol Workshop & Expo 2026
DESCRIPTION:Now in its 42nd year\, the FEW provides the global ethanol industry with cutting-edge content and unparalleled networking opportunities in a dynamic business-to-business environment. The FEW is the largest\, longest running ethanol conference in the world—and the only event powered by Ethanol Producer Magazine. \nFrom its inception\, the mission of the event has remained constant: The FEW delivers timely presentations with a strong focus on commercial-scale ethanol production – from quality control and yield maximization to regulatory compliance and fiscal management. The FEW is also the ethanol industry’s premier forum for unveiling new technologies and research findings. The program extensively covers cellulosic ethanol while remaining committed to optimizing existing grain ethanol operations.
URL:https://valleyviewagri.com/event/fuel-ethanol-workshop-expo-2026/
LOCATION:Americas Center\, 701 Convention Plaza\, St Louis\, Missouri\, 63101
CATEGORIES:Trade Show
ATTACH;FMTTYPE=image/png:https://valleyviewagri.com/wp-content/uploads/2026/03/FEW.png
END:VEVENT
END:VCALENDAR