BEGIN:VCALENDAR
VERSION:2.0
PRODID:-//Valley View Agri-Systems - ECPv6.15.20//NONSGML v1.0//EN
CALSCALE:GREGORIAN
METHOD:PUBLISH
X-ORIGINAL-URL:https://valleyviewagri.com
X-WR-CALDESC:Events for Valley View Agri-Systems
REFRESH-INTERVAL;VALUE=DURATION:PT1H
X-Robots-Tag:noindex
X-PUBLISHED-TTL:PT1H
BEGIN:VTIMEZONE
TZID:America/Chicago
BEGIN:DAYLIGHT
TZOFFSETFROM:-0600
TZOFFSETTO:-0500
TZNAME:CDT
DTSTART:20240310T080000
END:DAYLIGHT
BEGIN:STANDARD
TZOFFSETFROM:-0500
TZOFFSETTO:-0600
TZNAME:CST
DTSTART:20241103T070000
END:STANDARD
BEGIN:DAYLIGHT
TZOFFSETFROM:-0600
TZOFFSETTO:-0500
TZNAME:CDT
DTSTART:20250309T080000
END:DAYLIGHT
BEGIN:STANDARD
TZOFFSETFROM:-0500
TZOFFSETTO:-0600
TZNAME:CST
DTSTART:20251102T070000
END:STANDARD
BEGIN:DAYLIGHT
TZOFFSETFROM:-0600
TZOFFSETTO:-0500
TZNAME:CDT
DTSTART:20260308T080000
END:DAYLIGHT
BEGIN:STANDARD
TZOFFSETFROM:-0500
TZOFFSETTO:-0600
TZNAME:CST
DTSTART:20261101T070000
END:STANDARD
BEGIN:DAYLIGHT
TZOFFSETFROM:-0600
TZOFFSETTO:-0500
TZNAME:CDT
DTSTART:20270314T080000
END:DAYLIGHT
BEGIN:STANDARD
TZOFFSETFROM:-0500
TZOFFSETTO:-0600
TZNAME:CST
DTSTART:20271107T070000
END:STANDARD
END:VTIMEZONE
BEGIN:VEVENT
DTSTART;VALUE=DATE:20251120
DTEND;VALUE=DATE:20251121
DTSTAMP:20260423T045859
CREATED:20250812T134710Z
LAST-MODIFIED:20250812T135036Z
UID:3312-1763596800-1763683199@valleyviewagri.com
SUMMARY:GEAPS Cornbelt/Hooiser Chapter Mini Convention
DESCRIPTION:The Beef House \n16501 N State Rd 63\nCovington\, IN\nThursday\, Nov. 20\, 2025
URL:https://valleyviewagri.com/event/geaps-cornbelt-hooiser-chapter-mini-convention/
LOCATION:The Beef House\, 16501 N State Rd 63\, Covington\, IN\, United States
CATEGORIES:Trade Show
ATTACH;FMTTYPE=image/png:https://valleyviewagri.com/wp-content/uploads/2024/11/GEAPSlogo_CRB_blue.png
END:VEVENT
BEGIN:VEVENT
DTSTART;VALUE=DATE:20251202
DTEND;VALUE=DATE:20251205
DTSTAMP:20260423T045859
CREATED:20250331T205958Z
LAST-MODIFIED:20250331T205958Z
UID:3064-1764633600-1764892799@valleyviewagri.com
SUMMARY:Greater Peoria Farm Show 2025
DESCRIPTION:Come see us at the Greater Peoria Farm Show 2025! \nIllinois’ largest indoor farm show returns to the Peoria Civic Center. The annual event is set to host hundreds of exhibitors\, representing over one thousand product lines and services. The Greater Peoria Farm Show is a great end-of-year opportunity to view all the latest in agriculture and plan for the 2026 growing season.
URL:https://valleyviewagri.com/event/greater-peoria-farm-show-2025/
LOCATION:Peoria Civic Center\, 201 SW Jefferson Ave\, Peoria\, IL\, 61602\, United States
CATEGORIES:Trade Show
ATTACH;FMTTYPE=image/jpeg:https://valleyviewagri.com/wp-content/uploads/2023/04/gpfs.jpg
END:VEVENT
BEGIN:VEVENT
DTSTART;VALUE=DATE:20260205
DTEND;VALUE=DATE:20260207
DTSTAMP:20260423T045859
CREATED:20251113T230343Z
LAST-MODIFIED:20251113T230343Z
UID:3407-1770249600-1770422399@valleyviewagri.com
SUMMARY:Cotton & Rice Conference 2026
DESCRIPTION:VVA BOOTH #56 & #57 \n \nEmbassy Suites by Hilton\nRed Wolf Convention Center\n233 Red Wolf Blvd.\nJonesboro\, AR 72405\n 
URL:https://valleyviewagri.com/event/cotton-rice-conference-2026/
LOCATION:Red Wolf Convention Center\, 233 Red Wolf Blvd.\, Jonesboro\, AK\, 72405
CATEGORIES:Trade Show
ATTACH;FMTTYPE=image/png:https://valleyviewagri.com/wp-content/uploads/2023/11/Screenshot-2023-11-08-at-3.59.09 PM.png
END:VEVENT
BEGIN:VEVENT
DTSTART;VALUE=DATE:20260215
DTEND;VALUE=DATE:20260218
DTSTAMP:20260423T045859
CREATED:20251023T140846Z
LAST-MODIFIED:20251023T141144Z
UID:3384-1771113600-1771372799@valleyviewagri.com
SUMMARY:GFAI Annual Convention & Trade Show 2026
DESCRIPTION:Union Station Hotel\n1820 Market St\nSt. Louis\, MO  63103\n  \nBooth #301 & #302
URL:https://valleyviewagri.com/event/gfai-annual-convention-trade-show-2026/
LOCATION:Union Station\, St. Louis\, MO\, United States
CATEGORIES:Trade Show
ATTACH;FMTTYPE=image/png:https://valleyviewagri.com/wp-content/uploads/2023/11/grain-feed-assoc-logo.png
END:VEVENT
BEGIN:VEVENT
DTSTART;VALUE=DATE:20260221
DTEND;VALUE=DATE:20260225
DTSTAMP:20260423T045859
CREATED:20251013T112829Z
LAST-MODIFIED:20251013T112829Z
UID:3368-1771632000-1771977599@valleyviewagri.com
SUMMARY:GEAPS Exchange 2026
DESCRIPTION:Booth #: 2638\n \nGEAPS Exchange is your one stop for everything you need \nLooking to solve a problem or make improvements to your facility? With more than 350 exhibitors at the show\, the Expo Hall features tons of options. You can walk the show floor\, take part in the Innovation Stations and see new equipment. \nLearn New Ways to Improve Facility Operations \nWith more than 45 hours of education\, you can take advantage of different formats and topics to build the skills of you and your team. \nMake Valuable Connections \nBeyond the Expo and education\, our social events bring back attendees year after year as a valuable way to make new industry connections. \n 
URL:https://valleyviewagri.com/event/geaps-exchange-2026/
LOCATION:Kansas City Convention Center\, 301 W 13th St \, Kansas City\, MO\, United States
CATEGORIES:Trade Show
ATTACH;FMTTYPE=image/png:https://valleyviewagri.com/wp-content/uploads/2023/11/KC24-horiz-4color.png
END:VEVENT
BEGIN:VEVENT
DTSTART;VALUE=DATE:20260225
DTEND;VALUE=DATE:20260228
DTSTAMP:20260423T045859
CREATED:20250403T180330Z
LAST-MODIFIED:20250403T180330Z
UID:3076-1771977600-1772236799@valleyviewagri.com
SUMMARY:Commodity Classic 2026
DESCRIPTION:Valley View Agri-Systems: Booth TBA \nCommodity Classic is unlike any other event in agriculture. \nBecause it’s created by farmers\, for farmers. \nAt Commodity Classic\, you’ll get the answers\, solutions and information you need to gain greater clarity—and create a vision for your farm’s success for years to come. \n\nIncredible insight through a full slate of educational sessions designed to keep your sights set on efficiency\, profitability and continual improvement.\nEye-opening innovation and technology showcased in the huge trade show—where you can see the latest advancements and talk directly with the people behind them.\nVisionary thought leaders and innovators in agriculture who will challenge the way you think about your farm.\nThe spectacular energy of being around thousands of positive\, talented farmers who share your passion for agriculture and your thirst for knowledge.
URL:https://valleyviewagri.com/event/commodity-classic-2026/
LOCATION:Henry B. Gonzales Convention Center\, San Antonio\, TX\, United States
CATEGORIES:Trade Show
ATTACH;FMTTYPE=image/png:https://valleyviewagri.com/wp-content/uploads/2024/05/logo.png
END:VEVENT
BEGIN:VEVENT
DTSTART;VALUE=DATE:20260227
DTEND;VALUE=DATE:20260301
DTSTAMP:20260423T045859
CREATED:20251013T113159Z
LAST-MODIFIED:20251013T113159Z
UID:3370-1772150400-1772323199@valleyviewagri.com
SUMMARY:Mid-South Farm & Gin Show 2026
DESCRIPTION:The 74th Annual Mid-South Farm & Gin Show will be held February 27th through 28th\, 2026 at the Renasant Convention Center\, 255 N. Main Street\, Memphis\, Tennessee \nBooth #: 3378
URL:https://valleyviewagri.com/event/mid-south-farm-gin-show-2026/
LOCATION:Renasant Convention Center\, 255 N. Main Street \, Memphis\, TN\, United States
CATEGORIES:Trade Show
ATTACH;FMTTYPE=image/png:https://valleyviewagri.com/wp-content/uploads/2023/11/Header-Logo.png
END:VEVENT
BEGIN:VEVENT
DTSTART;VALUE=DATE:20260602
DTEND;VALUE=DATE:20260605
DTSTAMP:20260423T045859
CREATED:20260311T215430Z
LAST-MODIFIED:20260311T215503Z
UID:3526-1780358400-1780617599@valleyviewagri.com
SUMMARY:Fuel Ethanol Workshop & Expo 2026
DESCRIPTION:Now in its 42nd year\, the FEW provides the global ethanol industry with cutting-edge content and unparalleled networking opportunities in a dynamic business-to-business environment. The FEW is the largest\, longest running ethanol conference in the world—and the only event powered by Ethanol Producer Magazine. \nFrom its inception\, the mission of the event has remained constant: The FEW delivers timely presentations with a strong focus on commercial-scale ethanol production – from quality control and yield maximization to regulatory compliance and fiscal management. The FEW is also the ethanol industry’s premier forum for unveiling new technologies and research findings. The program extensively covers cellulosic ethanol while remaining committed to optimizing existing grain ethanol operations.
URL:https://valleyviewagri.com/event/fuel-ethanol-workshop-expo-2026/
LOCATION:Americas Center\, 701 Convention Plaza\, St Louis\, Missouri\, 63101
CATEGORIES:Trade Show
ATTACH;FMTTYPE=image/png:https://valleyviewagri.com/wp-content/uploads/2026/03/FEW.png
END:VEVENT
END:VCALENDAR