BEGIN:VCALENDAR
VERSION:2.0
PRODID:-//Valley View Agri-Systems - ECPv6.15.20//NONSGML v1.0//EN
CALSCALE:GREGORIAN
METHOD:PUBLISH
X-WR-CALNAME:Valley View Agri-Systems
X-ORIGINAL-URL:https://valleyviewagri.com
X-WR-CALDESC:Events for Valley View Agri-Systems
REFRESH-INTERVAL;VALUE=DURATION:PT1H
X-Robots-Tag:noindex
X-PUBLISHED-TTL:PT1H
BEGIN:VTIMEZONE
TZID:America/Chicago
BEGIN:DAYLIGHT
TZOFFSETFROM:-0600
TZOFFSETTO:-0500
TZNAME:CDT
DTSTART:20240310T080000
END:DAYLIGHT
BEGIN:STANDARD
TZOFFSETFROM:-0500
TZOFFSETTO:-0600
TZNAME:CST
DTSTART:20241103T070000
END:STANDARD
BEGIN:DAYLIGHT
TZOFFSETFROM:-0600
TZOFFSETTO:-0500
TZNAME:CDT
DTSTART:20250309T080000
END:DAYLIGHT
BEGIN:STANDARD
TZOFFSETFROM:-0500
TZOFFSETTO:-0600
TZNAME:CST
DTSTART:20251102T070000
END:STANDARD
BEGIN:DAYLIGHT
TZOFFSETFROM:-0600
TZOFFSETTO:-0500
TZNAME:CDT
DTSTART:20260308T080000
END:DAYLIGHT
BEGIN:STANDARD
TZOFFSETFROM:-0500
TZOFFSETTO:-0600
TZNAME:CST
DTSTART:20261101T070000
END:STANDARD
END:VTIMEZONE
BEGIN:VEVENT
DTSTART;VALUE=DATE:20250221
DTEND;VALUE=DATE:20250224
DTSTAMP:20260423T004137
CREATED:20240731T170910Z
LAST-MODIFIED:20250122T131725Z
UID:2656-1740096000-1740355199@valleyviewagri.com
SUMMARY:Western Farm Show 2025
DESCRIPTION:The Western Farm Show Is The Midwest’s Best Indoor Farm Show! \nBooth #: 434
URL:https://valleyviewagri.com/event/western-farm-show-2025/
LOCATION:American Royal\, 1701 American Royal Court \, Kansas City\, MO\, 64102\, United States
CATEGORIES:Trade Show
ATTACH;FMTTYPE=image/png:https://valleyviewagri.com/wp-content/uploads/2023/11/Screenshot-2023-11-08-at-4.07.21 PM.png
END:VEVENT
END:VCALENDAR