BEGIN:VCALENDAR
VERSION:2.0
PRODID:-//Valley View Agri-Systems - ECPv6.15.20//NONSGML v1.0//EN
CALSCALE:GREGORIAN
METHOD:PUBLISH
X-ORIGINAL-URL:https://valleyviewagri.com
X-WR-CALDESC:Events for Valley View Agri-Systems
REFRESH-INTERVAL;VALUE=DURATION:PT1H
X-Robots-Tag:noindex
X-PUBLISHED-TTL:PT1H
BEGIN:VTIMEZONE
TZID:America/Chicago
BEGIN:DAYLIGHT
TZOFFSETFROM:-0600
TZOFFSETTO:-0500
TZNAME:CDT
DTSTART:20230312T080000
END:DAYLIGHT
BEGIN:STANDARD
TZOFFSETFROM:-0500
TZOFFSETTO:-0600
TZNAME:CST
DTSTART:20231105T070000
END:STANDARD
BEGIN:DAYLIGHT
TZOFFSETFROM:-0600
TZOFFSETTO:-0500
TZNAME:CDT
DTSTART:20240310T080000
END:DAYLIGHT
BEGIN:STANDARD
TZOFFSETFROM:-0500
TZOFFSETTO:-0600
TZNAME:CST
DTSTART:20241103T070000
END:STANDARD
BEGIN:DAYLIGHT
TZOFFSETFROM:-0600
TZOFFSETTO:-0500
TZNAME:CDT
DTSTART:20250309T080000
END:DAYLIGHT
BEGIN:STANDARD
TZOFFSETFROM:-0500
TZOFFSETTO:-0600
TZNAME:CST
DTSTART:20251102T070000
END:STANDARD
END:VTIMEZONE
BEGIN:VEVENT
DTSTART;VALUE=DATE:20240827
DTEND;VALUE=DATE:20240830
DTSTAMP:20260423T094002
CREATED:20240319T175636Z
LAST-MODIFIED:20240731T193842Z
UID:2456-1724716800-1724975999@valleyviewagri.com
SUMMARY:Farm Progress Show in Boone\, IA
DESCRIPTION:Booth #991 In the Northeast Quadrant \nThe Farm Progress Show enjoys a long and rich history. This major agriculture event gives visitors the opportunity to see the latest equipment\, seed\, crop chemicals\, field demonstrations\, livestock handling and equine events\, Ride ‘n Drive\, rural life programs and entertainment\, arts and crafts\, and more. Farmers and ranchers from across North America and around the world visit the Farm Progress Show to see agriculture’s latest product introductions\, meet face-to-face with agribusiness professionals and gain hands-on knowledge.
URL:https://valleyviewagri.com/event/farm-progress-show-in-boone-ia/
LOCATION:Missouri
CATEGORIES:Trade Show
ATTACH;FMTTYPE=image/png:https://valleyviewagri.com/wp-content/uploads/2021/02/FPS_21.png
END:VEVENT
END:VCALENDAR