BEGIN:VCALENDAR
VERSION:2.0
PRODID:-//Valley View Agri-Systems - ECPv6.15.20//NONSGML v1.0//EN
CALSCALE:GREGORIAN
METHOD:PUBLISH
X-WR-CALNAME:Valley View Agri-Systems
X-ORIGINAL-URL:https://valleyviewagri.com
X-WR-CALDESC:Events for Valley View Agri-Systems
REFRESH-INTERVAL;VALUE=DURATION:PT1H
X-Robots-Tag:noindex
X-PUBLISHED-TTL:PT1H
BEGIN:VTIMEZONE
TZID:America/Chicago
BEGIN:DAYLIGHT
TZOFFSETFROM:-0600
TZOFFSETTO:-0500
TZNAME:CDT
DTSTART:20240310T080000
END:DAYLIGHT
BEGIN:STANDARD
TZOFFSETFROM:-0500
TZOFFSETTO:-0600
TZNAME:CST
DTSTART:20241103T070000
END:STANDARD
BEGIN:DAYLIGHT
TZOFFSETFROM:-0600
TZOFFSETTO:-0500
TZNAME:CDT
DTSTART:20250309T080000
END:DAYLIGHT
BEGIN:STANDARD
TZOFFSETFROM:-0500
TZOFFSETTO:-0600
TZNAME:CST
DTSTART:20251102T070000
END:STANDARD
BEGIN:DAYLIGHT
TZOFFSETFROM:-0600
TZOFFSETTO:-0500
TZNAME:CDT
DTSTART:20260308T080000
END:DAYLIGHT
BEGIN:STANDARD
TZOFFSETFROM:-0500
TZOFFSETTO:-0600
TZNAME:CST
DTSTART:20261101T070000
END:STANDARD
END:VTIMEZONE
BEGIN:VEVENT
DTSTART;VALUE=DATE:20250826
DTEND;VALUE=DATE:20250829
DTSTAMP:20260422T132933
CREATED:20250402T142352Z
LAST-MODIFIED:20250403T180651Z
UID:3073-1756166400-1756425599@valleyviewagri.com
SUMMARY:Farm Progress Show 2025
DESCRIPTION:VVA Booth: 911 \nThe Farm Progress Show connects farmers from across the globe with hundreds of exhibitors displaying new farm equipment\, tractors\, combines and farm implements; seed and crop protection products; and many additional farm supplies and services. \nWhether you are looking to innovate with the latest ag-technology\, learn from industry experts\, or share your farming legacy with your family\, the Farm Progress Show has it all and Valley View will be there in Decatur\, Illinois this Fall. \n4275 E Mound Rd\nDecatur\, IL 62526
URL:https://valleyviewagri.com/event/farm-progress-show-2025/
LOCATION:Farm Progress Show\, 4275 E Mound Rd\, Decatur\, IL\, 62526\, United States
CATEGORIES:Trade Show
ATTACH;FMTTYPE=image/png:https://valleyviewagri.com/wp-content/uploads/2021/02/FPS_21.png
END:VEVENT
END:VCALENDAR