BEGIN:VCALENDAR
VERSION:2.0
PRODID:-//Valley View Agri-Systems - ECPv6.15.20//NONSGML v1.0//EN
CALSCALE:GREGORIAN
METHOD:PUBLISH
X-ORIGINAL-URL:https://valleyviewagri.com
X-WR-CALDESC:Events for Valley View Agri-Systems
REFRESH-INTERVAL;VALUE=DURATION:PT1H
X-Robots-Tag:noindex
X-PUBLISHED-TTL:PT1H
BEGIN:VTIMEZONE
TZID:America/Chicago
BEGIN:DAYLIGHT
TZOFFSETFROM:-0600
TZOFFSETTO:-0500
TZNAME:CDT
DTSTART:20240310T080000
END:DAYLIGHT
BEGIN:STANDARD
TZOFFSETFROM:-0500
TZOFFSETTO:-0600
TZNAME:CST
DTSTART:20241103T070000
END:STANDARD
BEGIN:DAYLIGHT
TZOFFSETFROM:-0600
TZOFFSETTO:-0500
TZNAME:CDT
DTSTART:20250309T080000
END:DAYLIGHT
BEGIN:STANDARD
TZOFFSETFROM:-0500
TZOFFSETTO:-0600
TZNAME:CST
DTSTART:20251102T070000
END:STANDARD
BEGIN:DAYLIGHT
TZOFFSETFROM:-0600
TZOFFSETTO:-0500
TZNAME:CDT
DTSTART:20260308T080000
END:DAYLIGHT
BEGIN:STANDARD
TZOFFSETFROM:-0500
TZOFFSETTO:-0600
TZNAME:CST
DTSTART:20261101T070000
END:STANDARD
END:VTIMEZONE
BEGIN:VEVENT
DTSTART;VALUE=DATE:20250228
DTEND;VALUE=DATE:20250302
DTSTAMP:20260422T210636
CREATED:20240731T172028Z
LAST-MODIFIED:20250122T131834Z
UID:2662-1740700800-1740873599@valleyviewagri.com
SUMMARY:Mid-South Farm & Gin Show 2025
DESCRIPTION:The 73nd Annual Mid-South Farm & Gin Show will be held February 28th through March 1st\, 2025 at the Renasant Convention Center\, 255 N. Main Street\, Memphis\, Tennessee \nBooth #: 3378
URL:https://valleyviewagri.com/event/mid-south-farm-gin-show-2025/
LOCATION:Renasant Convention Center\, 255 N. Main Street \, Memphis\, TN\, United States
CATEGORIES:Trade Show
ATTACH;FMTTYPE=image/png:https://valleyviewagri.com/wp-content/uploads/2023/11/Header-Logo.png
END:VEVENT
BEGIN:VEVENT
DTSTART;VALUE=DATE:20250302
DTEND;VALUE=DATE:20250305
DTSTAMP:20260422T210636
CREATED:20240627T141058Z
LAST-MODIFIED:20240731T171703Z
UID:2590-1740873600-1741132799@valleyviewagri.com
SUMMARY:Commodity Classic 2025
DESCRIPTION:Valley View Agri-Systems: Booth 114 \nCommodity Classic is unlike any other event in agriculture. \nBecause it’s created by farmers\, for farmers. \nAt Commodity Classic\, you’ll get the answers\, solutions and information you need to gain greater clarity—and create a vision for your farm’s success for years to come. \n\nIncredible insight through a full slate of educational sessions designed to keep your sights set on efficiency\, profitability and continual improvement.\nEye-opening innovation and technology showcased in the huge trade show—where you can see the latest advancements and talk directly with the people behind them.\nVisionary thought leaders and innovators in agriculture who will challenge the way you think about your farm.\nThe spectacular energy of being around thousands of positive\, talented farmers who share your passion for agriculture and your thirst for knowledge.
URL:https://valleyviewagri.com/event/commodity-classic-2025/
LOCATION:Colorado Convention Center\, 1325 Stout St\, Denver\, CO\, 80202\, United States
CATEGORIES:Trade Show
ATTACH;FMTTYPE=image/png:https://valleyviewagri.com/wp-content/uploads/2024/05/logo.png
END:VEVENT
BEGIN:VEVENT
DTSTART;VALUE=DATE:20250312
DTEND;VALUE=DATE:20250313
DTSTAMP:20260422T210636
CREATED:20240731T172504Z
LAST-MODIFIED:20250122T131658Z
UID:2664-1741737600-1741823999@valleyviewagri.com
SUMMARY:GFAI 2025 Grain Operations Conference
DESCRIPTION:Date Tentative – Will be updated upon announcement. \nBooth #:  313 & 314
URL:https://valleyviewagri.com/event/gfai-2025-grain-operations-conference/
LOCATION:Agricenter\, 14171 Carole Dr\, Bloomington\, IL\, 61705\, United States
CATEGORIES:Trade Show
ATTACH;FMTTYPE=image/png:https://valleyviewagri.com/wp-content/uploads/2023/11/grain-feed-assoc-logo.png
END:VEVENT
END:VCALENDAR