BEGIN:VCALENDAR
VERSION:2.0
PRODID:-//Valley View Agri-Systems - ECPv6.15.20//NONSGML v1.0//EN
CALSCALE:GREGORIAN
METHOD:PUBLISH
X-ORIGINAL-URL:https://valleyviewagri.com
X-WR-CALDESC:Events for Valley View Agri-Systems
REFRESH-INTERVAL;VALUE=DURATION:PT1H
X-Robots-Tag:noindex
X-PUBLISHED-TTL:PT1H
BEGIN:VTIMEZONE
TZID:America/Chicago
BEGIN:DAYLIGHT
TZOFFSETFROM:-0600
TZOFFSETTO:-0500
TZNAME:CDT
DTSTART:20240310T080000
END:DAYLIGHT
BEGIN:STANDARD
TZOFFSETFROM:-0500
TZOFFSETTO:-0600
TZNAME:CST
DTSTART:20241103T070000
END:STANDARD
BEGIN:DAYLIGHT
TZOFFSETFROM:-0600
TZOFFSETTO:-0500
TZNAME:CDT
DTSTART:20250309T080000
END:DAYLIGHT
BEGIN:STANDARD
TZOFFSETFROM:-0500
TZOFFSETTO:-0600
TZNAME:CST
DTSTART:20251102T070000
END:STANDARD
BEGIN:DAYLIGHT
TZOFFSETFROM:-0600
TZOFFSETTO:-0500
TZNAME:CDT
DTSTART:20260308T080000
END:DAYLIGHT
BEGIN:STANDARD
TZOFFSETFROM:-0500
TZOFFSETTO:-0600
TZNAME:CST
DTSTART:20261101T070000
END:STANDARD
END:VTIMEZONE
BEGIN:VEVENT
DTSTART;TZID=America/Chicago:20250116T083000
DTEND;TZID=America/Chicago:20250116T163000
DTSTAMP:20260423T004113
CREATED:20250114T200841Z
LAST-MODIFIED:20250114T200859Z
UID:2881-1737016200-1737045000@valleyviewagri.com
SUMMARY:Delta Ag Expo
DESCRIPTION:The 50th anniversary 2025 Delta Ag Expo will be January 16\, 2025 from 8:30am–4:30pm and will go from a two-day to a one-day show for 2025.
URL:https://valleyviewagri.com/event/delta-ag-expo/
LOCATION:Bolivar County Expo Center\, 601 First Street\, Cleveland\, MS\, 38732\, United States
CATEGORIES:Trade Show
ATTACH;FMTTYPE=image/png:https://valleyviewagri.com/wp-content/uploads/2025/01/LOGODAE2025-1-1.png
END:VEVENT
BEGIN:VEVENT
DTSTART;VALUE=DATE:20250127
DTEND;VALUE=DATE:20250129
DTSTAMP:20260423T004113
CREATED:20240731T164246Z
LAST-MODIFIED:20240731T171648Z
UID:2652-1737936000-1738108799@valleyviewagri.com
SUMMARY:Cotton & Rice Conference 2025
DESCRIPTION:VVA BOOTH #TBD\n1/27-1/28  \nHilton East Memphis\n939 Ridge Lake Boulevard\nMemphis\, TN 38120
URL:https://valleyviewagri.com/event/cotton-rice-conference-2025/
LOCATION:Hilton East Memphis\, 939 Ridge Lake Boulevard\, Memphis\, TN\, 38120\, United States
CATEGORIES:Trade Show
ATTACH;FMTTYPE=image/png:https://valleyviewagri.com/wp-content/uploads/2023/11/Screenshot-2023-11-08-at-3.59.09 PM.png
END:VEVENT
BEGIN:VEVENT
DTSTART;TZID=America/Chicago:20250131T113000
DTEND;TZID=America/Chicago:20250131T150000
DTSTAMP:20260423T004113
CREATED:20241216T173757Z
LAST-MODIFIED:20241216T173757Z
UID:2862-1738323000-1738335600@valleyviewagri.com
SUMMARY:Clay County Rice\, Soybean and Corn Production Meeting
DESCRIPTION:
URL:https://valleyviewagri.com/event/clay-county-rice-soybean-and-corn-production-meeting/
LOCATION:Corning Community Center\, 536 E Elm St\, Corning\, AR\, United States
CATEGORIES:Trade Show
ATTACH;FMTTYPE=image/png:https://valleyviewagri.com/wp-content/uploads/2024/12/Screenshot-2024-12-16-113716.png
END:VEVENT
END:VCALENDAR