BEGIN:VCALENDAR
VERSION:2.0
PRODID:-//Valley View Agri-Systems - ECPv6.15.20//NONSGML v1.0//EN
CALSCALE:GREGORIAN
METHOD:PUBLISH
X-WR-CALNAME:Valley View Agri-Systems
X-ORIGINAL-URL:https://valleyviewagri.com
X-WR-CALDESC:Events for Valley View Agri-Systems
REFRESH-INTERVAL;VALUE=DURATION:PT1H
X-Robots-Tag:noindex
X-PUBLISHED-TTL:PT1H
BEGIN:VTIMEZONE
TZID:America/Chicago
BEGIN:DAYLIGHT
TZOFFSETFROM:-0600
TZOFFSETTO:-0500
TZNAME:CDT
DTSTART:20240310T080000
END:DAYLIGHT
BEGIN:STANDARD
TZOFFSETFROM:-0500
TZOFFSETTO:-0600
TZNAME:CST
DTSTART:20241103T070000
END:STANDARD
BEGIN:DAYLIGHT
TZOFFSETFROM:-0600
TZOFFSETTO:-0500
TZNAME:CDT
DTSTART:20250309T080000
END:DAYLIGHT
BEGIN:STANDARD
TZOFFSETFROM:-0500
TZOFFSETTO:-0600
TZNAME:CST
DTSTART:20251102T070000
END:STANDARD
BEGIN:DAYLIGHT
TZOFFSETFROM:-0600
TZOFFSETTO:-0500
TZNAME:CDT
DTSTART:20260308T080000
END:DAYLIGHT
BEGIN:STANDARD
TZOFFSETFROM:-0500
TZOFFSETTO:-0600
TZNAME:CST
DTSTART:20261101T070000
END:STANDARD
END:VTIMEZONE
BEGIN:VEVENT
DTSTART;TZID=America/Chicago:20250405T080000
DTEND;TZID=America/Chicago:20250406T170000
DTSTAMP:20260419T221158
CREATED:20250331T205713Z
LAST-MODIFIED:20250331T205713Z
UID:3062-1743840000-1743958800@valleyviewagri.com
SUMMARY:Spring Lawn & Garden Sale 2025
DESCRIPTION:Free and open to the public \nApril 5\, 2025 – April 6\, 2025\nSaturday 9am – 5pm\nSunday 9am -3pm\n\nIllinois State Fairgrounds – Orr Building\n801 E. Sangamon Ave. Springfield\, IL 62703
URL:https://valleyviewagri.com/event/spring-lawn-garden-sale-2025/
LOCATION:Illinois State Fairgrounds\, Orr Building\, Springfield\, IL\, United States
CATEGORIES:Special Event
END:VEVENT
END:VCALENDAR