BEGIN:VCALENDAR
VERSION:2.0
PRODID:-//Valley View Agri-Systems - ECPv6.15.20//NONSGML v1.0//EN
CALSCALE:GREGORIAN
METHOD:PUBLISH
X-ORIGINAL-URL:https://valleyviewagri.com
X-WR-CALDESC:Events for Valley View Agri-Systems
REFRESH-INTERVAL;VALUE=DURATION:PT1H
X-Robots-Tag:noindex
X-PUBLISHED-TTL:PT1H
BEGIN:VTIMEZONE
TZID:America/Chicago
BEGIN:DAYLIGHT
TZOFFSETFROM:-0600
TZOFFSETTO:-0500
TZNAME:CDT
DTSTART:20240310T080000
END:DAYLIGHT
BEGIN:STANDARD
TZOFFSETFROM:-0500
TZOFFSETTO:-0600
TZNAME:CST
DTSTART:20241103T070000
END:STANDARD
BEGIN:DAYLIGHT
TZOFFSETFROM:-0600
TZOFFSETTO:-0500
TZNAME:CDT
DTSTART:20250309T080000
END:DAYLIGHT
BEGIN:STANDARD
TZOFFSETFROM:-0500
TZOFFSETTO:-0600
TZNAME:CST
DTSTART:20251102T070000
END:STANDARD
BEGIN:DAYLIGHT
TZOFFSETFROM:-0600
TZOFFSETTO:-0500
TZNAME:CDT
DTSTART:20260308T080000
END:DAYLIGHT
BEGIN:STANDARD
TZOFFSETFROM:-0500
TZOFFSETTO:-0600
TZNAME:CST
DTSTART:20261101T070000
END:STANDARD
END:VTIMEZONE
BEGIN:VEVENT
DTSTART;TZID=America/Chicago:20250311T133000
DTEND;TZID=America/Chicago:20250311T133000
DTSTAMP:20260419T235858
CREATED:20250306T161044Z
LAST-MODIFIED:20250306T161314Z
UID:3015-1741699800-1741699800@valleyviewagri.com
SUMMARY:Customer Open House - Lunch & Learn
DESCRIPTION:NOTE: Event begins with a 1:30 p.m. lunch at Pickens Store & Restaurant (located at 122 Pickens Road in Pickens\, AR)\, then moves to Dumas for the educational program. \nValley View Agri-Systems invites customers and partners to a Customer Open House and Lunch & Learn on March 11 at 1:30 p.m. \nDoor prizes will be awarded—must be present to win. \n“Join us for a free lunch plus ideas for how to improve your operation\,” says Jeff Fjelstul\, Vice President Outside Sales. “We’ll get you and your business ready for the spring busy season\, and give you a look inside our newest location\, in Dumas.” \nPickens Store & Restaurant is located at 435 Hwy 65 South in Dumas. Speakers for the sessions at VVA’s Dumas location will include: \n\nJeff Fjelstul\, VP Outside Sales – Welcome to Dumas\nMarc Wilson\, Account Manager – Vision for Dumas office\nReid Lane – Concept AgriTek\nMatt Miles – Advanced Ag Products\nKallie Chenoweth – Agri Division\, First Financial Bank\nSteve Henderson – JASBO Scale Software\nTJ Brashers\, Grain Management Specialist – Grain Bin Management\n\nFor more information or to RSVP\, call 870-761-9642 or email marc.wilson@valleyviewagri.com.
URL:https://valleyviewagri.com/event/customer-open-house/
LOCATION:Valley View Dumas\, 435 Hwy 65 South\, Dumas\, AK
CATEGORIES:Special Event
ATTACH;FMTTYPE=image/png:https://valleyviewagri.com/wp-content/uploads/2025/02/vva-defaultOG.png
END:VEVENT
END:VCALENDAR